BEGIN:VCALENDAR
VERSION:2.0
PRODID:-//Life Qi Center - ECPv6.15.20//NONSGML v1.0//EN
CALSCALE:GREGORIAN
METHOD:PUBLISH
X-WR-CALNAME:Life Qi Center
X-ORIGINAL-URL:https://lifeqicenter.com
X-WR-CALDESC:Events for Life Qi Center
REFRESH-INTERVAL;VALUE=DURATION:PT1H
X-Robots-Tag:noindex
X-PUBLISHED-TTL:PT1H
BEGIN:VTIMEZONE
TZID:America/Los_Angeles
BEGIN:DAYLIGHT
TZOFFSETFROM:-0800
TZOFFSETTO:-0700
TZNAME:PDT
DTSTART:20250309T100000
END:DAYLIGHT
BEGIN:STANDARD
TZOFFSETFROM:-0700
TZOFFSETTO:-0800
TZNAME:PST
DTSTART:20251102T090000
END:STANDARD
BEGIN:DAYLIGHT
TZOFFSETFROM:-0800
TZOFFSETTO:-0700
TZNAME:PDT
DTSTART:20260308T100000
END:DAYLIGHT
BEGIN:STANDARD
TZOFFSETFROM:-0700
TZOFFSETTO:-0800
TZNAME:PST
DTSTART:20261101T090000
END:STANDARD
BEGIN:DAYLIGHT
TZOFFSETFROM:-0800
TZOFFSETTO:-0700
TZNAME:PDT
DTSTART:20270314T100000
END:DAYLIGHT
BEGIN:STANDARD
TZOFFSETFROM:-0700
TZOFFSETTO:-0800
TZNAME:PST
DTSTART:20271107T090000
END:STANDARD
END:VTIMEZONE
BEGIN:VEVENT
DTSTART;TZID=America/Los_Angeles:20260425T093000
DTEND;TZID=America/Los_Angeles:20260429T173000
DTSTAMP:20260425T193212
CREATED:20260205T071754Z
LAST-MODIFIED:20260205T071754Z
UID:1753-1777109400-1777483800@lifeqicenter.com
SUMMARY:A Path to Healing | 5-Day In-Person Retreat in San Diego\, California
DESCRIPTION:Immerse Yourself in the Wisdom and Qi of Master Liu and his team\n\n\n\n\nIN PERSON EVENT \n\n\n\n\nEngage deeply with the healing power of Qi\, guided by Master Yuantong Liu. Throughout these five days\, you will be enveloped in a powerful Qi field—an environment rich with vibrant\, healing energy\, carefully cultivated to enhance your body’s natural ability to restore itself. \nThe energy of Master Liu creates a deeply transformative experience that accelerates your abilities to activate your self-healing from within. As you connect with this dynamic field\, distractions will fade\, and clarity will emerge. Whether you seek physical healing\, emotional balance\, mental stability or spiritual growth\, Master Liu’s guidance will support you in aligning your energy and bringing your healing journey into focus. \nWhat You’ll Learn and Experience\nThis workshop mirrors the core principles and practices of the Huaxia Center – known as the medince-less hospital in the west – \, where tens of thousands achieved remarkable health outcomes through dedication and focused Qi practice. During the retreat\, participants will: \n\nActivate self-healing abilities\nDiscover how to awaken and harness your body’s natural capacity to heal and restore balance.\nParticipate in group healing sessions\nExperience the transformative power of collective healing led by Master Liu.\nLearn consciousness refinement tools\nMaster techniques to refine and elevate your consciousness\, fostering clarity and inner harmony.\nStrengthen your immune system\nEngage in practices designed to bolster your immune system and promote overall health.\nCultivate a positive mindset\nDevelop mental habits that nurture positivity and resilience in daily life.\nPractice proven self-healing exercises\nExplore effective exercises to empower your self-healing journey and maintain well-being.\nEstablish a deep connection with yourself\nDeepen your awareness and cultivate a profound relationship with your inner self.\n\nWho Should Attend?\nThis retreat is for anyone ready to engage in active healing and self-empowerment. Whether you’re addressing chronic health issues\, seeking energetic balance\, or exploring Zhineng Qigong for personal development\, this workshop provides an unparalleled opportunity to learn and grow. \nDiscounts Available!\nThe price for a single day is $185\, but you can save significantly with multi-day registration discounts. Qi Team Members and certified Hunyuan Qi Therapists receive a 25% discount (use code QITEAM-25 or HYQT-25 at checkout) when purchasing the full event saving an additional $30. \n\nCost: $925 $725 OR $185/day with discounts for multiple days\nTimes: Apr 25-29\, 9:30am – 5:30pm Pacific Time\nAttendance: In Person (no recordings)\nLocation: Present Moment Living\, 2535 Camino del Rio S\, Suite #155\, San Diego\, California\n\n\nYou can find registration details and the different booking options here: Path to Healing – Master Liu
URL:https://lifeqicenter.com/event/a-path-to-healing-5-day-in-person-retreat-in-san-diego-california/
LOCATION:Present Moment Living\, San Diego\, CA\, 92108\, United States
ATTACH;FMTTYPE=image/webp:https://lifeqicenter.com/wp-content/uploads/Master-Liu-A-Path-To-Healing-2.webp
ORGANIZER;CN="Present Moment Living":MAILTO:iam@presentmomentliving.org
END:VEVENT
END:VCALENDAR